BEGIN:VCALENDAR
VERSION:2.0
PRODID:-//Plone.org//NONSGML plone.app.event//EN
X-WR-TIMEZONE:UTC
BEGIN:VEVENT
SUMMARY:Training Program with INQ Angola - Jornada da Formação INQ-ACQF-
 II
DTSTART;VALUE=DATE-TIME:20240903T083000Z
DTEND;VALUE=DATE-TIME:20240904T120000Z
DTSTAMP;VALUE=DATE-TIME:20260421T225857Z
UID:19a31098bead4b97a859bd07cc9c5890@167.172.48.169:8292
CONTACT:Eduarda Castel-Branco\, ecb@etf.europa.eu
CREATED;VALUE=DATE-TIME:20240825T175003Z
DESCRIPTION:This Training program for stakeholders of the NQF Angola focus
 es on 7 major themes\, and is co-organised between National Qualifications
  Institute (INQ) and ACQF-II. A Jornada de Formação para as entidades as
 sociadas ao Systema Nacional de Qualificações (SNQ) de Angola centra-se 
 em 7 temas principais e é co-organizado entre o INQ e ACQF-II.
LAST-MODIFIED;VALUE=DATE-TIME:20250105T043554Z
LOCATION:Instituto Nacional de Qualificações (INQ)
URL:https://acqf.africa/capacity-development-programme/webinars/training-p
 rogram-angola-inq-jornada-da-formacao-inq-acqf-ii
END:VEVENT
END:VCALENDAR
