BEGIN:VCALENDAR
VERSION:2.0
PRODID:-//Plone.org//NONSGML plone.app.event//EN
X-WR-TIMEZONE:UTC
BEGIN:VEVENT
SUMMARY:Towards Eswatini RPL Policy and Guidelines: RPL training workshop
DTSTART;VALUE=DATE-TIME:20230927T093000Z
DTEND;VALUE=DATE-TIME:20230927T170000Z
DTSTAMP;VALUE=DATE-TIME:20260421T193353Z
UID:104f941f5ed844ff818d677070890859@167.172.48.169:8292
CONTACT:Eduarda Castel-Branco\, ecb@etf.europa.eu
CREATED;VALUE=DATE-TIME:20230919T145022Z
DESCRIPTION:This workshop is co-organised by Eswatini Qualifications Autho
 rity (EQA) and the ACQF-II project. It gathers representatives from public
  institutions\, education and training community\, professional bodies and
  social partners. The workshop is part of the technical visit to Eswatini\
 , focused on identification and discussion of major features of the future
  RPL Policy and Guidelines.
LAST-MODIFIED;VALUE=DATE-TIME:20230919T145612Z
LOCATION:Hilton Garden Inn\, Mbabane - Eswatini
URL:https://acqf.africa/capacity-development-programme/webinars/towards-es
 watini-rpl-policy-and-guidelines-rpl-training-workshop
END:VEVENT
END:VCALENDAR
