BEGIN:VCALENDAR
VERSION:2.0
PRODID:-//Plone.org//NONSGML plone.app.event//EN
X-WR-TIMEZONE:UTC
BEGIN:VEVENT
SUMMARY:The Freetown NQF Training Workshop (Part I)
DTSTART;VALUE=DATE-TIME:20231129T090000Z
DTEND;VALUE=DATE-TIME:20231201T170000Z
DTSTAMP;VALUE=DATE-TIME:20260422T154302Z
UID:2bb1ac12dc614ad0867d5b2ab02f0a83@167.172.48.169:8292
CONTACT:Eduarda Castel-Branco\, ecb@etf.europa.eu
CREATED;VALUE=DATE-TIME:20231119T164356Z
DESCRIPTION:The government of Sierra Leone and the key stakeholders are de
 termined to develop a contextualized and effective National Qualifications
  Framework (NQF)\, comprehensive and inclusive of all levels and types of 
 qualifications and able to deliver on the objectives of quality\, transpar
 ency and portability of skills and qualifications for lifelong learning\, 
 employability\, social justice\, and contributing to the green and digital
  transformation.
LAST-MODIFIED;VALUE=DATE-TIME:20250105T092846Z
LOCATION:Freetown\, Sierra Leone
URL:https://acqf.africa/capacity-development-programme/webinars/the-freeto
 wn-nqf-training-workshop-part-i
END:VEVENT
END:VCALENDAR
