BEGIN:VCALENDAR
VERSION:2.0
PRODID:-//Plone.org//NONSGML plone.app.event//EN
X-WR-TIMEZONE:UTC
BEGIN:VEVENT
SUMMARY:Sierra Leone: Policy planning webinar – focus on RPL and CATS
DTSTART;VALUE=DATE-TIME:20241031T090000Z
DTEND;VALUE=DATE-TIME:20241031T163000Z
DTSTAMP;VALUE=DATE-TIME:20260420T035905Z
UID:c238ce69d11f4fd89aa8c4284f7da1d8@167.172.48.169:8292
CONTACT:Eduarda Castel-Branco / Abdul-Rahman Sesay (NCTVA)\, ecb@etf.europ
 a.eu / abdul.rahman.sesay@nctva.org
CREATED;VALUE=DATE-TIME:20241028T094022Z
DESCRIPTION:Recognition of Prior Learning (RPL) and Credit Accumulation an
 d Transfer Systems (CATS) are fundamental policies connected to the NQF\, 
 contributing to mobility\, progression and social inclusion
LAST-MODIFIED;VALUE=DATE-TIME:20241028T103631Z
LOCATION:Online - Zoom meeting
URL:https://acqf.africa/capacity-development-programme/webinars/sierra-leo
 ne-policy-planning-webinar-2013-focus-on-rpl-and-cats
END:VEVENT
END:VCALENDAR
