BEGIN:VCALENDAR
VERSION:2.0
PRODID:-//Plone.org//NONSGML plone.app.event//EN
X-WR-TIMEZONE:UTC
BEGIN:VEVENT
SUMMARY:SADCQF: annual meeting TCCA 2024
DTSTART;VALUE=DATE-TIME:20240509T090000Z
DTEND;VALUE=DATE-TIME:20240510T163000Z
DTSTAMP;VALUE=DATE-TIME:20260425T225113Z
UID:01b13b1312334d83ae555ff737d3eb8b@167.172.48.169:8292
CONTACT:Eduarda Castel-Branco\, ecb@etf.europa.eu
CREATED;VALUE=DATE-TIME:20240407T113322Z
DESCRIPTION:The annual TCCA meeting in Johannesburg gathers representative
 s of all SADC Member States\, SADC Secretariat and ACQF-II experts. The me
 eting will monitor progress in implementation of the SADCQF Roadmap 2023-2
 026.
LAST-MODIFIED;VALUE=DATE-TIME:20240509T175255Z
LOCATION:Radisson Blu Sandton\, Johannesburg
URL:https://acqf.africa/capacity-development-programme/webinars/sadcqf-ann
 ual-meeting-tcca-2024
END:VEVENT
END:VCALENDAR
