BEGIN:VCALENDAR
VERSION:2.0
PRODID:-//Plone.org//NONSGML plone.app.event//EN
X-WR-TIMEZONE:UTC
BEGIN:VEVENT
SUMMARY:Review of the Zambia Qualifications Framework (ZQF): Technical Wor
 king Group Workshops - 23-24 January 2025
DTSTART;VALUE=DATE-TIME:20250123T070000Z
DTEND;VALUE=DATE-TIME:20250124T150000Z
DTSTAMP;VALUE=DATE-TIME:20260419T232857Z
UID:c721a7b25bd14ebfb820a5e370e47ec2@167.172.48.169:8292
CREATED;VALUE=DATE-TIME:20250103T112051Z
DESCRIPTION:Aligning the National Qualifications Framework to the New Zamb
 ia Qualifications Authority (ZAQA) Act No. 8 of 2024 and the demands of di
 gital and green transformation
LAST-MODIFIED;VALUE=DATE-TIME:20250219T071046Z
LOCATION:Lusaka\, Zambia
URL:https://acqf.africa/capacity-development-programme/webinars/review-of-
 the-zambia-qualifications-framework-zqf-technical-working-group-workshops-
 23-24-january-2025
END:VEVENT
END:VCALENDAR
