BEGIN:VCALENDAR
VERSION:2.0
PRODID:-//Plone.org//NONSGML plone.app.event//EN
X-WR-TIMEZONE:UTC
BEGIN:VEVENT
SUMMARY:Qualifications and Credentials Platform (QCP) – 3rd Onboarding W
 ebinar for QCP Contact Persons
DTSTART;VALUE=DATE:20250312
DTEND;VALUE=DATE:20250313
DTSTAMP;VALUE=DATE-TIME:20260423T103310Z
UID:cf50a10d567649608393e62325994058@167.172.48.169:8292
CREATED;VALUE=DATE-TIME:20250324T064627Z
DESCRIPTION:This workshop was designed for QCP Contact Persons from each p
 articipating country.
LAST-MODIFIED;VALUE=DATE-TIME:20250326T120832Z
URL:https://acqf.africa/capacity-development-programme/webinars/qualificat
 ions-and-credentials-platform-qcp-2013-3rd-onboarding-webinar-for-qcp-cont
 act-persons
END:VEVENT
END:VCALENDAR
