BEGIN:VCALENDAR
VERSION:2.0
PRODID:-//Plone.org//NONSGML plone.app.event//EN
X-WR-TIMEZONE:UTC
BEGIN:VEVENT
SUMMARY:National consultations on development of Zambia Micro-credentials 
 Framework
DTSTART;VALUE=DATE:20260325
DTEND;VALUE=DATE:20260326
DTSTAMP;VALUE=DATE-TIME:20260420T040013Z
UID:8b3fef226adc4e27ba4c184222af34ca@167.172.48.169:8292
CREATED;VALUE=DATE-TIME:20260310T094403Z
DESCRIPTION:The  Zambia Qualifications Authority (ZAQA) co-organises with 
 the project "African Continental Qualifications Framework" (ACQF-II)\, the
  stakeholder consultative workshop to brainstorm on the Zambia micro-crede
 ntials policy framework. The workshop will discuss policy scenarios for th
 e development and recognition of micro-credentials in Zambia.
LAST-MODIFIED;VALUE=DATE-TIME:20260330T134136Z
URL:https://acqf.africa/capacity-development-programme/webinars/national-c
 onsultations-on-development-of-zambia-micro-credentials-framework
END:VEVENT
END:VCALENDAR
