BEGIN:VCALENDAR
VERSION:2.0
PRODID:-//Plone.org//NONSGML plone.app.event//EN
X-WR-TIMEZONE:UTC
BEGIN:VEVENT
SUMMARY:Forum of National Qualifications Frameworks' institutions (Contine
 ntal workshop) -  Kinshasa - information in English
DTSTART;VALUE=DATE-TIME:20240618T083000Z
DTEND;VALUE=DATE-TIME:20240620T150000Z
DTSTAMP;VALUE=DATE-TIME:20260423T220838Z
UID:de8ecc98e45c413c946a0b9b48c01390@167.172.48.169:8292
CONTACT:Eduarda Castel-Branco\, Laurent Ndaywel Mbosele\, ecb@etf.europa.e
 u/ laurent.ndaywel@formation.gouv.cd
CREATED;VALUE=DATE-TIME:20240426T170709Z
DESCRIPTION:The Ministry of Vocational Training of the Democratic Republic
  of Congo (DR Congo) co-organises with the "African Continental Qualificat
 ions Framework" (ACQF-II) project and African countries the continental "F
 orum of National Qualifications Frameworks' institutions". This workshop w
 ill take place in Kinshasa\, from 18 to 20 June\, at the Memling Hotel.
LAST-MODIFIED;VALUE=DATE-TIME:20240808T181636Z
LOCATION:Hotel Memling\, Salle Virunga - Kinshasa
URL:https://acqf.africa/capacity-development-programme/webinars/forum-of-n
 ational-qualifications-frameworks-forum-des-cadres-nationaux-des-certifica
 tions-continental
END:VEVENT
END:VCALENDAR
