BEGIN:VCALENDAR
VERSION:2.0
PRODID:-//Plone.org//NONSGML plone.app.event//EN
X-WR-TIMEZONE:UTC
BEGIN:VEVENT
SUMMARY:Forum des institutions des Cadres Nationaux des Certifications (At
 elier continental) - Information en Français
DTSTART;VALUE=DATE-TIME:20240618T073000Z
DTEND;VALUE=DATE-TIME:20240620T150000Z
DTSTAMP;VALUE=DATE-TIME:20260422T233816Z
UID:76c99866f32b4e6c8b61051abee5f000@167.172.48.169:8292
CONTACT:Eduarda Castel-Branco\, Laurent Ndaywel Mbosele\, ecb@etf.europa.e
 u/ laurent.ndaywel@formation.gouv.cd
CREATED;VALUE=DATE-TIME:20240501T145258Z
DESCRIPTION:Le Ministère de la Formation Professionnelle et Métiers (MFP
 M) de la République Démocratique du Congo (RD Congo) coorganise avec le 
 projet « Cadre Continental Africain de Certifications » (ACQF-II) et les
  pays Africains\, le « Forum continental des institutions des Cadres Nati
 onaux de Certifications ». Cet atelier aura lieu à Kinshasa\, du 18 au 2
 0 juin\, à l’Hôtel Memling.
LAST-MODIFIED;VALUE=DATE-TIME:20240612T081155Z
LOCATION:Hotel Memling\, Salle Virunga - Kinshasa
URL:https://acqf.africa/capacity-development-programme/webinars/forum-des-
 institutions-des-cadres-nationaux-des-certifications-atelier-continental
END:VEVENT
END:VCALENDAR
