BEGIN:VCALENDAR
VERSION:2.0
PRODID:-//Plone.org//NONSGML plone.app.event//EN
X-WR-TIMEZONE:UTC
BEGIN:VEVENT
SUMMARY:Botswana: Capacity‑building workshops on NCQF policy implementat
 ion and ACQF referencing
DTSTART;VALUE=DATE:20260309
DTEND;VALUE=DATE:20260326
DTSTAMP;VALUE=DATE-TIME:20260421T173355Z
UID:f1db3505efb54a0f9dadbe9e065310a5@167.172.48.169:8292
CREATED;VALUE=DATE-TIME:20260421T125247Z
DESCRIPTION:From 9 February to 25 March 2026\, a series of capacity‑buil
 ding workshops was delivered in Botswana with the support of ACQF‑II exp
 erts\, at the invitation of the Botswana Qualifications Authority (BQA).
LAST-MODIFIED;VALUE=DATE-TIME:20260421T125827Z
URL:https://acqf.africa/capacity-development-programme/webinars/botswana-c
 apacitybuilding-workshops-on-ncqf-policy-implementation-and-acqf-referenci
 ng
END:VEVENT
END:VCALENDAR
