BEGIN:VCALENDAR
VERSION:2.0
PRODID:-//Plone.org//NONSGML plone.app.event//EN
X-WR-TIMEZONE:UTC
BEGIN:VEVENT
SUMMARY:ACQF 6th Peer Learning Webinar
DTSTART;TZID=Africa/Johannesburg;VALUE=DATE-TIME:20201022T140000
DTEND;TZID=Africa/Johannesburg;VALUE=DATE-TIME:20201022T163000
DTSTAMP;VALUE=DATE-TIME:20260419T171832Z
UID:8668dbe9cc9046bc9e42bec0f182dfd7@167.172.48.169:8292
CONTACT:Eduarda Castel Branco\, eduarda.castel-branco@etf.europa.eu
CREATED;VALUE=DATE-TIME:20210726T135110Z
DESCRIPTION:Discussed cases: the evolution of NQFs of two countries with s
 ignificant experience (Zambia and Cabo Verde)\, and engaged with two regio
 nal qualifications frameworks in Africa (Southern African Development Comm
 unity and East African Community).
LAST-MODIFIED;VALUE=DATE-TIME:20210912T105524Z
LOCATION:Online - Zoom
URL:https://acqf.africa/capacity-development-programme/webinars/acqf-6th-p
 eer-learning-webinar
END:VEVENT
BEGIN:VTIMEZONE
TZID:Africa/Johannesburg
X-LIC-LOCATION:Africa/Johannesburg
BEGIN:STANDARD
DTSTART;VALUE=DATE-TIME:19440319T010000
TZNAME:SAST
TZOFFSETFROM:+0300
TZOFFSETTO:+0200
END:STANDARD
END:VTIMEZONE
END:VCALENDAR
