BEGIN:VCALENDAR
VERSION:2.0
PRODID:-//Plone.org//NONSGML plone.app.event//EN
X-WR-TIMEZONE:UTC
BEGIN:VEVENT
SUMMARY:ACQF 2024: Celebrating Progress
DTSTART;VALUE=DATE-TIME:20241220T091500Z
DTEND;VALUE=DATE-TIME:20241220T121500Z
DTSTAMP;VALUE=DATE-TIME:20260423T150937Z
UID:36b4377ee06145298cb442689b9d5018@167.172.48.169:8292
CONTACT:Eduarda Castel-Branco\, ecb@etf.europa.eu
CREATED;VALUE=DATE-TIME:20241204T083554Z
DESCRIPTION:ACQF 2024 is the year of many important developments for the s
 ustainability of the ACQF working with the countries and regions. Referenc
 ing\, ACQF Network\, Qualifications and Credentials Platform (QCP)
LAST-MODIFIED;VALUE=DATE-TIME:20241227T174328Z
LOCATION:Online - Zoom meeting
URL:https://acqf.africa/capacity-development-programme/webinars/acqf-2024-
 celebrating-progress-acqf-network-launch-qualifications-and-credentials-pl
 atform-qcp
END:VEVENT
END:VCALENDAR
